BEGIN:VCALENDAR
VERSION:2.0
PRODID:-//Stevens Creek Church - ECPv6.15.10//NONSGML v1.0//EN
CALSCALE:GREGORIAN
METHOD:PUBLISH
X-WR-CALNAME:Stevens Creek Church
X-ORIGINAL-URL:https://stevenscreekchurch.com
X-WR-CALDESC:Events for Stevens Creek Church
REFRESH-INTERVAL;VALUE=DURATION:PT1H
X-Robots-Tag:noindex
X-PUBLISHED-TTL:PT1H
BEGIN:VTIMEZONE
TZID:America/New_York
BEGIN:DAYLIGHT
TZOFFSETFROM:-0500
TZOFFSETTO:-0400
TZNAME:EDT
DTSTART:20250309T070000
END:DAYLIGHT
BEGIN:STANDARD
TZOFFSETFROM:-0400
TZOFFSETTO:-0500
TZNAME:EST
DTSTART:20251102T060000
END:STANDARD
BEGIN:DAYLIGHT
TZOFFSETFROM:-0500
TZOFFSETTO:-0400
TZNAME:EDT
DTSTART:20260308T070000
END:DAYLIGHT
BEGIN:STANDARD
TZOFFSETFROM:-0400
TZOFFSETTO:-0500
TZNAME:EST
DTSTART:20261101T060000
END:STANDARD
BEGIN:DAYLIGHT
TZOFFSETFROM:-0500
TZOFFSETTO:-0400
TZNAME:EDT
DTSTART:20270314T070000
END:DAYLIGHT
BEGIN:STANDARD
TZOFFSETFROM:-0400
TZOFFSETTO:-0500
TZNAME:EST
DTSTART:20271107T060000
END:STANDARD
END:VTIMEZONE
BEGIN:VEVENT
DTSTART;TZID=America/New_York:20260528T190000
DTEND;TZID=America/New_York:20260528T210000
DTSTAMP:20260422T163228
CREATED:20260413T132323Z
LAST-MODIFIED:20260413T132323Z
UID:10541-1779994800-1780002000@stevenscreekchurch.com
SUMMARY:Stevens Creek Young Adults - Summer Nights
DESCRIPTION:Join our Young Adults\, ages 18-30\, for a monthly service! The night will consist of fellowship\, worship\, teaching\, and communion. Whether you are in college\, grad school\, post-grad\, single\, or married – YOU ARE INVITED. \nAugusta Campus | Service @ 7PM \nAges 18-30 \nClick the button below to register for childcare! \n 
URL:https://stevenscreekchurch.com/event/stevens-creek-young-adults-summer-nights/
ATTACH;FMTTYPE=image/png:https://stevenscreekchurch.com/wp-content/uploads/2025/11/scya.png
END:VEVENT
END:VCALENDAR